BEGIN:VCALENDAR
PRODID:-//dvv-bw.de//dvv.Portalplattform//DE
VERSION:2.0
METHOD:PUBLISH
BEGIN:VEVENT
DTSTART:20260723T220000Z
DTEND:20260723T220000Z
DTSTAMP:20260422T021436Z
UID:523251957573-523251957472-1784844000000
SUMMARY:Büchercafé Bücher & Bowle
LOCATION:Ev. Gemeindehaus
DESCRIPTION:Büchercafé Bücher & Bowle
CLASS:PUBLIC
X-ALT-DESC;FMTTYPE=text/html:Büchercafé Bücher & Bowle
END:VEVENT
END:VCALENDAR
