BEGIN:VCALENDAR
PRODID:-//dvv-bw.de//dvv.Portalplattform//DE
VERSION:2.0
METHOD:PUBLISH
BEGIN:VEVENT
DTSTART:20260716T220000Z
DTEND:20260718T220000Z
DTSTAMP:20260422T034953Z
RRULE;FREQ=DAILY;UNTIL=20260719T215959Z
UID:523251957572-523251957471-1784239200000
SUMMARY:Dorffest
DESCRIPTION:Dorffest
CLASS:PUBLIC
X-ALT-DESC;FMTTYPE=text/html:Dorffest
END:VEVENT
END:VCALENDAR
