BEGIN:VCALENDAR
PRODID:-//dvv-bw.de//dvv.Portalplattform//DE
VERSION:2.0
METHOD:PUBLISH
BEGIN:VEVENT
DTSTART:20260724T220000Z
DTEND:20260724T220000Z
DTSTAMP:20260422T045639Z
UID:523251957574-523251957473-1784930400000
SUMMARY:Papa Kind Zelten
DESCRIPTION:Papa Kind Zelten
CLASS:PUBLIC
X-ALT-DESC;FMTTYPE=text/html:Papa Kind Zelten
END:VEVENT
END:VCALENDAR
